BEGIN:VCALENDAR
VERSION:2.0
PRODID:-//Esperanza HOA - ECPv6.15.11//NONSGML v1.0//EN
CALSCALE:GREGORIAN
METHOD:PUBLISH
X-WR-CALNAME:Esperanza HOA
X-ORIGINAL-URL:https://esperanzahoa.com
X-WR-CALDESC:Events for Esperanza HOA
REFRESH-INTERVAL;VALUE=DURATION:PT1H
X-Robots-Tag:noindex
X-PUBLISHED-TTL:PT1H
BEGIN:VTIMEZONE
TZID:America/Chicago
BEGIN:DAYLIGHT
TZOFFSETFROM:-0600
TZOFFSETTO:-0500
TZNAME:CDT
DTSTART:20240310T080000
END:DAYLIGHT
BEGIN:STANDARD
TZOFFSETFROM:-0500
TZOFFSETTO:-0600
TZNAME:CST
DTSTART:20241103T070000
END:STANDARD
BEGIN:DAYLIGHT
TZOFFSETFROM:-0600
TZOFFSETTO:-0500
TZNAME:CDT
DTSTART:20250309T080000
END:DAYLIGHT
BEGIN:STANDARD
TZOFFSETFROM:-0500
TZOFFSETTO:-0600
TZNAME:CST
DTSTART:20251102T070000
END:STANDARD
BEGIN:DAYLIGHT
TZOFFSETFROM:-0600
TZOFFSETTO:-0500
TZNAME:CDT
DTSTART:20260308T080000
END:DAYLIGHT
BEGIN:STANDARD
TZOFFSETFROM:-0500
TZOFFSETTO:-0600
TZNAME:CST
DTSTART:20261101T070000
END:STANDARD
END:VTIMEZONE
BEGIN:VEVENT
DTSTART;TZID=America/Chicago:20250517T110000
DTEND;TZID=America/Chicago:20250517T130000
DTSTAMP:20260425T072509
CREATED:20250430T205758Z
LAST-MODIFIED:20250430T205758Z
UID:10001337-1747479600-1747486800@esperanzahoa.com
SUMMARY:Fun In The Sun
DESCRIPTION:Let’s enjoy some Fun In The Sun! Join us at the Roca Loca Lawn for a sunny fun time! Food trucks + Vendors + Foam Cannons + Water Slide \nRoca Loca Lawn \n11 am – 1 pm
URL:https://esperanzahoa.com/event/fun-in-the-sun/
LOCATION:Roca Loca Lawn
ATTACH;FMTTYPE=image/jpeg:https://esperanzahoa.com/wp-content/uploads/2025/04/Fun-in-the-sun.jpg
END:VEVENT
END:VCALENDAR