BEGIN:VCALENDAR
VERSION:2.0
PRODID:-//Esperanza HOA - ECPv6.15.11//NONSGML v1.0//EN
CALSCALE:GREGORIAN
METHOD:PUBLISH
X-WR-CALNAME:Esperanza HOA
X-ORIGINAL-URL:https://esperanzahoa.com
X-WR-CALDESC:Events for Esperanza HOA
REFRESH-INTERVAL;VALUE=DURATION:PT1H
X-Robots-Tag:noindex
X-PUBLISHED-TTL:PT1H
BEGIN:VTIMEZONE
TZID:America/Chicago
BEGIN:DAYLIGHT
TZOFFSETFROM:-0600
TZOFFSETTO:-0500
TZNAME:CDT
DTSTART:20240310T080000
END:DAYLIGHT
BEGIN:STANDARD
TZOFFSETFROM:-0500
TZOFFSETTO:-0600
TZNAME:CST
DTSTART:20241103T070000
END:STANDARD
BEGIN:DAYLIGHT
TZOFFSETFROM:-0600
TZOFFSETTO:-0500
TZNAME:CDT
DTSTART:20250309T080000
END:DAYLIGHT
BEGIN:STANDARD
TZOFFSETFROM:-0500
TZOFFSETTO:-0600
TZNAME:CST
DTSTART:20251102T070000
END:STANDARD
BEGIN:DAYLIGHT
TZOFFSETFROM:-0600
TZOFFSETTO:-0500
TZNAME:CDT
DTSTART:20260308T080000
END:DAYLIGHT
BEGIN:STANDARD
TZOFFSETFROM:-0500
TZOFFSETTO:-0600
TZNAME:CST
DTSTART:20261101T070000
END:STANDARD
END:VTIMEZONE
BEGIN:VEVENT
DTSTART;TZID=America/Chicago:20250906T090000
DTEND;TZID=America/Chicago:20250906T213000
DTSTAMP:20260421T071705
CREATED:20250730T163645Z
LAST-MODIFIED:20250801T144125Z
UID:10001999-1757149200-1757194200@esperanzahoa.com
SUMMARY:Essentrics Full Body Workout
DESCRIPTION:Awaken your body’s full potential with our Essentrics Full Body Workout! This low-impact class combines the flowing movements of Tai Chi and Yoga to build strength\, balance\, and control—using your body weight as resistance.
URL:https://esperanzahoa.com/event/essentrics-full-body-workout/2025-09-06/
LOCATION:The Club
ATTACH;FMTTYPE=image/jpeg:https://esperanzahoa.com/wp-content/uploads/2025/07/Essentrics.jpg
END:VEVENT
BEGIN:VEVENT
DTSTART;TZID=America/Chicago:20250906T150000
DTEND;TZID=America/Chicago:20250906T170000
DTSTAMP:20260421T071705
CREATED:20250831T193217Z
LAST-MODIFIED:20250831T193704Z
UID:10002057-1757170800-1757178000@esperanzahoa.com
SUMMARY:Bourbon and Whiskey Tasting
DESCRIPTION:Join us for a 21+ adult night of Bourbon and Whiskey tasting with Hors d’oeuvres. \nMust RSVP as limited spots are available. \nhttps://form.jotform.com/250856781114156 \n  \nPlease Note: Due to limited availability\, we kindly ask that cancellations be made at least 24 hours in advance to allow others the opportunity to participate. Participants who fail to cancel within this timeframe or do not attend without notice will incur a $20 charge per participant\, billed to their account. \n 
URL:https://esperanzahoa.com/event/bourbon-and-whiskey-tasting/
LOCATION:The Club
ATTACH;FMTTYPE=image/jpeg:https://esperanzahoa.com/wp-content/uploads/2025/07/Bourbon-and-Whiskey-Tasting.jpg
END:VEVENT
END:VCALENDAR