BEGIN:VCALENDAR
VERSION:2.0
PRODID:-//Esperanza HOA - ECPv6.15.11//NONSGML v1.0//EN
CALSCALE:GREGORIAN
METHOD:PUBLISH
X-WR-CALNAME:Esperanza HOA
X-ORIGINAL-URL:https://esperanzahoa.com
X-WR-CALDESC:Events for Esperanza HOA
REFRESH-INTERVAL;VALUE=DURATION:PT1H
X-Robots-Tag:noindex
X-PUBLISHED-TTL:PT1H
BEGIN:VTIMEZONE
TZID:America/Chicago
BEGIN:DAYLIGHT
TZOFFSETFROM:-0600
TZOFFSETTO:-0500
TZNAME:CDT
DTSTART:20230312T080000
END:DAYLIGHT
BEGIN:STANDARD
TZOFFSETFROM:-0500
TZOFFSETTO:-0600
TZNAME:CST
DTSTART:20231105T070000
END:STANDARD
BEGIN:DAYLIGHT
TZOFFSETFROM:-0600
TZOFFSETTO:-0500
TZNAME:CDT
DTSTART:20240310T080000
END:DAYLIGHT
BEGIN:STANDARD
TZOFFSETFROM:-0500
TZOFFSETTO:-0600
TZNAME:CST
DTSTART:20241103T070000
END:STANDARD
BEGIN:DAYLIGHT
TZOFFSETFROM:-0600
TZOFFSETTO:-0500
TZNAME:CDT
DTSTART:20250309T080000
END:DAYLIGHT
BEGIN:STANDARD
TZOFFSETFROM:-0500
TZOFFSETTO:-0600
TZNAME:CST
DTSTART:20251102T070000
END:STANDARD
END:VTIMEZONE
BEGIN:VEVENT
DTSTART;TZID=America/Chicago:20240704T100000
DTEND;TZID=America/Chicago:20240704T140000
DTSTAMP:20260424T035145
CREATED:20240620T234407Z
LAST-MODIFIED:20240620T234407Z
UID:10000274-1720087200-1720101600@esperanzahoa.com
SUMMARY:Fourth Fest
DESCRIPTION:Start the 4th with a bang! \nCome join us at the Club from 10 am to 2 pm for a celebration featuring delicious food\, a resident golf cart parade\, and an opportunity to view a firetruck! \nSign up to participate in the parade with your cart (or side by side vehicle). \nThe parade will start at 10:15 am sharp. \nA firetruck will be available for viewing starting at 10:30 am.
URL:https://esperanzahoa.com/event/fourth-fest/
LOCATION:The Club
ATTACH;FMTTYPE=image/jpeg:https://esperanzahoa.com/wp-content/uploads/2024/06/Esperanza_HOA-Fourth-Fest-Graphic.jpg
END:VEVENT
BEGIN:VEVENT
DTSTART;TZID=America/Chicago:20240712T150000
DTEND;TZID=America/Chicago:20240712T200000
DTSTAMP:20260424T035145
CREATED:20240607T040457Z
LAST-MODIFIED:20240708T205347Z
UID:10000818-1720796400-1720814400@esperanzahoa.com
SUMMARY:Food Trucks on The Roca Loca Lawn
DESCRIPTION:Take a break from cooking and come on down to the Roca Local Lawn to enjoy Food Trucks on The Lawn. \n 
URL:https://esperanzahoa.com/event/food-trucks-on-the-roca-loca-lawn-7/2024-07-12/
LOCATION:Roca Loca Lawn
ATTACH;FMTTYPE=image/png:https://esperanzahoa.com/wp-content/uploads/2023/05/Social_Graphic_-_FoodTrucks.png
END:VEVENT
BEGIN:VEVENT
DTSTART;TZID=America/Chicago:20240713T110000
DTEND;TZID=America/Chicago:20240713T150000
DTSTAMP:20260424T035145
CREATED:20240701T170922Z
LAST-MODIFIED:20240710T052410Z
UID:10000275-1720868400-1720882800@esperanzahoa.com
SUMMARY:Foam Fest
DESCRIPTION:Dive into the foam! \nJoin us at the Roca Loca Lawn for a foamy fun time! \nFood trucks + Vendors + Foam Cannons + Water Slide \nSaturday\, July 13th \n11 AM – 3 PM \n 
URL:https://esperanzahoa.com/event/foam-fest/
LOCATION:Roca Loca Lawn
END:VEVENT
BEGIN:VEVENT
DTSTART;TZID=America/Chicago:20240714T120000
DTEND;TZID=America/Chicago:20240714T130000
DTSTAMP:20260424T035145
CREATED:20240608T170556Z
LAST-MODIFIED:20240708T212606Z
UID:10000827-1720958400-1720962000@esperanzahoa.com
SUMMARY:Popsicles at The Splash Pad
DESCRIPTION:Come cool down at the splash pad with a complimentary popsicle. \nWhile supplies last
URL:https://esperanzahoa.com/event/popsicles-at-the-splash-pad-8/2024-07-14/
LOCATION:The Club
ATTACH;FMTTYPE=image/png:https://esperanzahoa.com/wp-content/uploads/2023/05/SocialGraphic_-_Popsicles1.png
END:VEVENT
BEGIN:VEVENT
DTSTART;TZID=America/Chicago:20240719T140000
DTEND;TZID=America/Chicago:20240719T180000
DTSTAMP:20260424T035145
CREATED:20240701T171616Z
LAST-MODIFIED:20240701T195249Z
UID:10000276-1721397600-1721412000@esperanzahoa.com
SUMMARY:Pool Party
DESCRIPTION:Cool by the pool Saturday\, July 19th! \nEnjoy live music + food trucks. \n2 PM – 6 PM \n  \n 
URL:https://esperanzahoa.com/event/pool-party/
LOCATION:The Club
END:VEVENT
BEGIN:VEVENT
DTSTART;TZID=America/Chicago:20240719T150000
DTEND;TZID=America/Chicago:20240719T200000
DTSTAMP:20260424T035145
CREATED:20240607T040457Z
LAST-MODIFIED:20240708T205347Z
UID:10000819-1721401200-1721419200@esperanzahoa.com
SUMMARY:Food Trucks on The Roca Loca Lawn
DESCRIPTION:Take a break from cooking and come on down to the Roca Local Lawn to enjoy Food Trucks on The Lawn. \n 
URL:https://esperanzahoa.com/event/food-trucks-on-the-roca-loca-lawn-7/2024-07-19/
LOCATION:Roca Loca Lawn
ATTACH;FMTTYPE=image/png:https://esperanzahoa.com/wp-content/uploads/2023/05/Social_Graphic_-_FoodTrucks.png
END:VEVENT
BEGIN:VEVENT
DTSTART;TZID=America/Chicago:20240720T150000
DTEND;TZID=America/Chicago:20240720T200000
DTSTAMP:20260424T035145
CREATED:20240607T040457Z
LAST-MODIFIED:20240708T205347Z
UID:10000820-1721487600-1721505600@esperanzahoa.com
SUMMARY:Food Trucks on The Roca Loca Lawn
DESCRIPTION:Take a break from cooking and come on down to the Roca Local Lawn to enjoy Food Trucks on The Lawn. \n 
URL:https://esperanzahoa.com/event/food-trucks-on-the-roca-loca-lawn-7/2024-07-20/
LOCATION:Roca Loca Lawn
ATTACH;FMTTYPE=image/png:https://esperanzahoa.com/wp-content/uploads/2023/05/Social_Graphic_-_FoodTrucks.png
END:VEVENT
BEGIN:VEVENT
DTSTART;TZID=America/Chicago:20240721T150000
DTEND;TZID=America/Chicago:20240721T200000
DTSTAMP:20260424T035145
CREATED:20240607T040457Z
LAST-MODIFIED:20240708T205347Z
UID:10000821-1721574000-1721592000@esperanzahoa.com
SUMMARY:Food Trucks on The Roca Loca Lawn
DESCRIPTION:Take a break from cooking and come on down to the Roca Local Lawn to enjoy Food Trucks on The Lawn. \n 
URL:https://esperanzahoa.com/event/food-trucks-on-the-roca-loca-lawn-7/2024-07-21/
LOCATION:Roca Loca Lawn
ATTACH;FMTTYPE=image/png:https://esperanzahoa.com/wp-content/uploads/2023/05/Social_Graphic_-_FoodTrucks.png
END:VEVENT
BEGIN:VEVENT
DTSTART;TZID=America/Chicago:20240726T150000
DTEND;TZID=America/Chicago:20240726T200000
DTSTAMP:20260424T035145
CREATED:20240607T040457Z
LAST-MODIFIED:20240708T205347Z
UID:10000822-1722006000-1722024000@esperanzahoa.com
SUMMARY:Food Trucks on The Roca Loca Lawn
DESCRIPTION:Take a break from cooking and come on down to the Roca Local Lawn to enjoy Food Trucks on The Lawn. \n 
URL:https://esperanzahoa.com/event/food-trucks-on-the-roca-loca-lawn-7/2024-07-26/
LOCATION:Roca Loca Lawn
ATTACH;FMTTYPE=image/png:https://esperanzahoa.com/wp-content/uploads/2023/05/Social_Graphic_-_FoodTrucks.png
END:VEVENT
BEGIN:VEVENT
DTSTART;TZID=America/Chicago:20240727T150000
DTEND;TZID=America/Chicago:20240727T170000
DTSTAMP:20260424T035145
CREATED:20240715T161746Z
LAST-MODIFIED:20240715T164958Z
UID:10000830-1722092400-1722099600@esperanzahoa.com
SUMMARY:Adult Paint and Sip Class
DESCRIPTION:Join us for a summer celebration at our Adult BYOB Paint and Sip class! Everything you need is provided. We will paint a depiction of a Bright “Starry Night.” \nSPACE IS LIMITED! \nThis event is sponsored by UHC and WellMed\, featuring raffles and giveaways. \nJuly 27th from 3:00 pm – 5:00 pm \nThe Community Room at The Club. \nRSVP at Paint and Sip Workshop (Adults only) (jotform.com)
URL:https://esperanzahoa.com/event/adult-paint-and-sip-class/
LOCATION:The Club
ATTACH;FMTTYPE=image/jpeg:https://esperanzahoa.com/wp-content/uploads/2024/06/Esperanza_HOA-Paint-and-Sip_Graphic-2.jpg
END:VEVENT
BEGIN:VEVENT
DTSTART;TZID=America/Chicago:20240728T120000
DTEND;TZID=America/Chicago:20240728T130000
DTSTAMP:20260424T035145
CREATED:20240608T170556Z
LAST-MODIFIED:20240708T212606Z
UID:10000828-1722168000-1722171600@esperanzahoa.com
SUMMARY:Popsicles at The Splash Pad
DESCRIPTION:Come cool down at the splash pad with a complimentary popsicle. \nWhile supplies last
URL:https://esperanzahoa.com/event/popsicles-at-the-splash-pad-8/2024-07-28/
LOCATION:The Club
ATTACH;FMTTYPE=image/png:https://esperanzahoa.com/wp-content/uploads/2023/05/SocialGraphic_-_Popsicles1.png
END:VEVENT
END:VCALENDAR